BEGIN:VCALENDAR
VERSION:2.0
PRODID:-//lancastercityart.com - ECPv6.3.6//NONSGML v1.0//EN
CALSCALE:GREGORIAN
METHOD:PUBLISH
X-ORIGINAL-URL:https://lancastercityart.com
X-WR-CALDESC:Events for lancastercityart.com
REFRESH-INTERVAL;VALUE=DURATION:PT1H
X-Robots-Tag:noindex
X-PUBLISHED-TTL:PT1H
BEGIN:VTIMEZONE
TZID:America/New_York
BEGIN:DAYLIGHT
TZOFFSETFROM:-0500
TZOFFSETTO:-0400
TZNAME:EDT
DTSTART:20250309T070000
END:DAYLIGHT
BEGIN:STANDARD
TZOFFSETFROM:-0400
TZOFFSETTO:-0500
TZNAME:EST
DTSTART:20251102T060000
END:STANDARD
END:VTIMEZONE
BEGIN:VEVENT
DTSTART;VALUE=DATE:20250901
DTEND;VALUE=DATE:20250902
DTSTAMP:20260419T103650
CREATED:20250828T155646Z
LAST-MODIFIED:20250828T155903Z
UID:10000517-1756684800-1756771199@lancastercityart.com
SUMMARY:Painting Workshops by This is Happiness Studio
DESCRIPTION:This is Happiness Studio invites you to enjoy our many offerings of painting workshops or schedule a private workshop for you and your friends in the studio. We have many classes throughout the month. \nVisit our website to view the calendar of events and to schedule a workshop or private party. \nhttps://thisishappinessstudio.com/
URL:https://lancastercityart.com/index.php/event/painting-workshops-by-this-is-happiness-studio/
LOCATION:PA
CATEGORIES:Workshop
ATTACH;FMTTYPE=image/webp:https://lancastercityart.com/wp-content/uploads/2025/08/Happiness-studio-LCAC-2.webp
END:VEVENT
BEGIN:VEVENT
DTSTART;VALUE=DATE:20250901
DTEND;VALUE=DATE:20250902
DTSTAMP:20260419T103650
CREATED:20250828T185048Z
LAST-MODIFIED:20250828T185448Z
UID:10000541-1756684800-1756771199@lancastercityart.com
SUMMARY:PA Guild of Craftsmen Workshops & Classes
DESCRIPTION:PA Guild of Craftsmen \nWorkshops \n \n  \nThe Pennsylvania Guild of Craftsmen offers an array of classes for adults in blacksmithing\, glass\, jewelry\, fiber\, wood\, and pottery. Our workshops are accessible for everyone\, with most being suitable for beginners. We strive to continually connect our Guild members and local artists to the local community through education. Join us for an afternoon or evening and learn a new skill!
URL:https://lancastercityart.com/index.php/event/7129/
LOCATION:PA
CATEGORIES:Workshop
ATTACH;FMTTYPE=image/png:https://lancastercityart.com/wp-content/uploads/2025/08/Artist-Guild-Aug.-20.png
END:VEVENT
END:VCALENDAR