BEGIN:VCALENDAR
VERSION:2.0
PRODID:-//lancastercityart.com - ECPv6.3.6//NONSGML v1.0//EN
CALSCALE:GREGORIAN
METHOD:PUBLISH
X-WR-CALNAME:lancastercityart.com
X-ORIGINAL-URL:https://lancastercityart.com
X-WR-CALDESC:Events for lancastercityart.com
REFRESH-INTERVAL;VALUE=DURATION:PT1H
X-Robots-Tag:noindex
X-PUBLISHED-TTL:PT1H
BEGIN:VTIMEZONE
TZID:Europe/London
BEGIN:DAYLIGHT
TZOFFSETFROM:+0000
TZOFFSETTO:+0100
TZNAME:BST
DTSTART:20240331T010000
END:DAYLIGHT
BEGIN:STANDARD
TZOFFSETFROM:+0100
TZOFFSETTO:+0000
TZNAME:GMT
DTSTART:20241027T010000
END:STANDARD
END:VTIMEZONE
BEGIN:VEVENT
DTSTART;TZID=Europe/London:20240928T133000
DTEND;TZID=Europe/London:20240928T160000
DTSTAMP:20260424T072658
CREATED:20240810T202624Z
LAST-MODIFIED:20240810T202624Z
UID:10000213-1727530200-1727539200@lancastercityart.com
SUMMARY:Imagination & Found Imagery: Collage Art Books with Mimi Shapiro
DESCRIPTION:In this workshop\, artist and instructor Mimi Shapiro encourages you to focus on your interests through collage. Cutting images from various sources and rearranging them to resemble those ideas that you see in your imagination. Using a zine or an existing book as the core surface\, the book’s structure will hold your collaged images.  \nMimi deeply believes in the many possibilities with collage\, “It’s the physical nature of this medium. Best of all\, your individual sensibilities are there to guide you.” A few possible topics of exploration could be working with patterns and textures\, incorporating typography or poetry\, and playing with color.  \nParticipants are asked to bring a found book- any size or subject matter\, to use as their collage surface\, think of it like a “sketchbook”. Collage material from magazines will be available\, but you are welcome to bring your own if you have a favorite subject matter. Glue and scissors will be provided for use during the workshop.  \nSpace is limited\, pre-registration is required. Please note curio. is located down a flight of stairs.
URL:https://lancastercityart.com/index.php/event/imagination-found-imagery-collage-art-books-with-mimi-shapiro/
LOCATION:CURIO. GALLERY & CREATIVE SUPPLY\, 106 W Chestnut St\, Lancaster\, PA\, 17601\, United States
CATEGORIES:Workshop
ATTACH;FMTTYPE=image/jpeg:https://lancastercityart.com/wp-content/uploads/2024/08/Imagination-idea-2-copy.jpg
END:VEVENT
END:VCALENDAR