BEGIN:VCALENDAR
VERSION:2.0
PRODID:-//lancastercityart.com - ECPv6.3.6//NONSGML v1.0//EN
CALSCALE:GREGORIAN
METHOD:PUBLISH
X-WR-CALNAME:lancastercityart.com
X-ORIGINAL-URL:https://lancastercityart.com
X-WR-CALDESC:Events for lancastercityart.com
REFRESH-INTERVAL;VALUE=DURATION:PT1H
X-Robots-Tag:noindex
X-PUBLISHED-TTL:PT1H
BEGIN:VTIMEZONE
TZID:Europe/London
BEGIN:DAYLIGHT
TZOFFSETFROM:+0000
TZOFFSETTO:+0100
TZNAME:BST
DTSTART:20240331T010000
END:DAYLIGHT
BEGIN:STANDARD
TZOFFSETFROM:+0100
TZOFFSETTO:+0000
TZNAME:GMT
DTSTART:20241027T010000
END:STANDARD
END:VTIMEZONE
BEGIN:VEVENT
DTSTART;TZID=Europe/London:20240409T190000
DTEND;TZID=Europe/London:20240409T210000
DTSTAMP:20260424T131135
CREATED:20240306T235044Z
LAST-MODIFIED:20240306T235044Z
UID:10000196-1712689200-1712696400@lancastercityart.com
SUMMARY:Sound of Creativity with Kenneth-Michael Ebert
DESCRIPTION:Join us for an evening of meditation\, reflection\, and creation as curio. welcomes our dear friend and sound practitioner Kenneth-Michael Ebert to our space for a special collaborative event. We invite you to experience the incredible soundscapes created by Kenneth-Michael and create works of art inspired by your audio journey. \nBeginning with a 30 minute sound meditation\, participants will have the opportunity to give themselves over to the sound and disconnect from the world around them. Using a multitude of instruments\, vocal toning\, and silences\, Kenneth-Michael builds on his sounds intuitively. Allowing the energy and flow of the atmosphere to guide each action until reaching a conclusion making each session as unique as the individuals participating. \nFollowing the meditation\, there will be a creative session where we encourage you to explore visual responses and representations of your experience. You may use whatever materials you like as we ask that you bring these items with you. We will have tables set up\, chairs\, easels\, drawing boards\, and drawing horses available for use. Coming together\, making time for yourself\, and creating with others are the goals of this event. Bringing together the restorative properties of sound meditation with the soul enriching qualities of making visual art.
URL:https://lancastercityart.com/index.php/event/sound-of-creativity-with-kenneth-michael-ebert/
LOCATION:CURIO. GALLERY & CREATIVE SUPPLY\, 106 W Chestnut St\, Lancaster\, PA\, 17601\, United States
CATEGORIES:Workshop
ATTACH;FMTTYPE=image/jpeg:https://lancastercityart.com/wp-content/uploads/2024/03/4.9.24-large-copy.jpg
END:VEVENT
BEGIN:VEVENT
DTSTART;TZID=Europe/London:20240415T190000
DTEND;TZID=Europe/London:20240415T210000
DTSTAMP:20260424T131135
CREATED:20240216T210935Z
LAST-MODIFIED:20240216T210935Z
UID:10000191-1713207600-1713214800@lancastercityart.com
SUMMARY:curio. Workshop Series: Chalk Pastel
DESCRIPTION:Chalk Pastel is an excellent way to take your drawings in an exciting new direction. Their blend-ability\, vibrancy\, and cooperation with other dry mediums makes them a favorite of those who prefer to work on paper. This three week series will be led by curio. co-owner Matt Allyn Chapman and will explore mark making & blending techniques\, monochromatic along with expanded color palette use\, as well as best practices for material application and image composition. Drawing from life and supplied printed reference\, participants will engage with the material at their own pace in a stress free environment. \nChalk Pastel with Matt Allyn Chapman is a three session workshop meeting on Monday April 15th\, 22nd\, 29th 7:00-9:00pm. All necessary materials will be supplied! \nSpace is limited to 10 participants and is suitable for ages 13 to adult. \nPlease note access to curio. is down a flight of steps\, slightly below street level.
URL:https://lancastercityart.com/index.php/event/curio-workshop-series-chalk-pastel/
LOCATION:CURIO. GALLERY & CREATIVE SUPPLY\, 106 W Chestnut St\, Lancaster\, PA\, 17601\, United States
CATEGORIES:Workshop
ATTACH;FMTTYPE=image/jpeg:https://lancastercityart.com/wp-content/uploads/2024/02/chalk-pastel-promo-1-copy.jpg
END:VEVENT
BEGIN:VEVENT
DTSTART;TZID=Europe/London:20240420T100000
DTEND;TZID=Europe/London:20240420T120000
DTSTAMP:20260424T131135
CREATED:20240216T211930Z
LAST-MODIFIED:20240216T211930Z
UID:10000192-1713607200-1713614400@lancastercityart.com
SUMMARY:curio. Urban Sketching: April
DESCRIPTION:Urban Sketching is a wonderful way to explore your surroundings and capture the energy and excitement of what you see. A trusty sketchbook\, your favorite travel materials\, and your keen eye is all you need to make visually interesting drawings from observation. Architecture\, the hustle and bustle of cars and people\, powerlines and the movement of the clouds are all possible inspirations in this laid back\, exploratory workshop series. Over these 2\, two hour sessions\, participants can discover how to translate what they see into their sketchbook as instructor Matt Allyn Chapman provides demonstrations and one on one interactions as we visit specific locations. \nThis two week workshop will be meeting on location Saturday April 20th & 27th 10:00-12:00pm \nThis workshop is a Bring Your Own Supplies meetup! Bring your favorite items or try something new.\nSuggested materials include easily portable items such as:\n-Sketchbook\n-Fineliner Pens\n-Markers\n-Travel Watercolor Set\n-Graphite Pencils\n-Colored Pencils \nA few other considerations may be to dress in a comfortable fashion for the forecasted weather and bring along a camp chair should you require a seat for this two hour workshop.
URL:https://lancastercityart.com/index.php/event/curio-urban-sketching-april/
LOCATION:CURIO. GALLERY & CREATIVE SUPPLY\, 106 W Chestnut St\, Lancaster\, PA\, 17601\, United States
CATEGORIES:Workshop
ATTACH;FMTTYPE=image/jpeg:https://lancastercityart.com/wp-content/uploads/2024/02/urban-sketching-April.jpg
END:VEVENT
END:VCALENDAR