BEGIN:VCALENDAR
VERSION:2.0
PRODID:-//lancastercityart.com - ECPv6.3.6//NONSGML v1.0//EN
CALSCALE:GREGORIAN
METHOD:PUBLISH
X-ORIGINAL-URL:https://lancastercityart.com
X-WR-CALDESC:Events for lancastercityart.com
REFRESH-INTERVAL;VALUE=DURATION:PT1H
X-Robots-Tag:noindex
X-PUBLISHED-TTL:PT1H
BEGIN:VTIMEZONE
TZID:Europe/London
BEGIN:DAYLIGHT
TZOFFSETFROM:+0000
TZOFFSETTO:+0100
TZNAME:BST
DTSTART:20230326T010000
END:DAYLIGHT
BEGIN:STANDARD
TZOFFSETFROM:+0100
TZOFFSETTO:+0000
TZNAME:GMT
DTSTART:20231029T010000
END:STANDARD
END:VTIMEZONE
BEGIN:VEVENT
DTSTART;TZID=Europe/London:20231014T140000
DTEND;TZID=Europe/London:20231014T160000
DTSTAMP:20260423T110351
CREATED:20230726T023049Z
LAST-MODIFIED:20230730T203318Z
UID:10000134-1697292000-1697299200@lancastercityart.com
SUMMARY:Freestyle Jam Session
DESCRIPTION:Bring your own percussion instruments and feed your musical soul.
URL:https://lancastercityart.com/index.php/event/freestyle-jam-session/2023-10-14/
LOCATION:PAVAA Gallery\, 632 N Christian St\, Lancaster\, PA\, 17602\, United States
CATEGORIES:Live Music
ATTACH;FMTTYPE=image/jpeg:https://lancastercityart.com/wp-content/uploads/2023/07/Flying-flag-scaled.jpg
END:VEVENT
BEGIN:VEVENT
DTSTART;TZID=Europe/London:20230909T140000
DTEND;TZID=Europe/London:20230909T160000
DTSTAMP:20260423T110351
CREATED:20230726T023049Z
LAST-MODIFIED:20230730T203318Z
UID:10000133-1694268000-1694275200@lancastercityart.com
SUMMARY:Freestyle Jam Session
DESCRIPTION:Bring your own percussion instruments and feed your musical soul.
URL:https://lancastercityart.com/index.php/event/freestyle-jam-session/2023-09-09/
LOCATION:PAVAA Gallery\, 632 N Christian St\, Lancaster\, PA\, 17602\, United States
CATEGORIES:Live Music
ATTACH;FMTTYPE=image/jpeg:https://lancastercityart.com/wp-content/uploads/2023/07/Flying-flag-scaled.jpg
END:VEVENT
BEGIN:VEVENT
DTSTART;TZID=Europe/London:20230812T140000
DTEND;TZID=Europe/London:20230812T160000
DTSTAMP:20260423T110351
CREATED:20230726T023049Z
LAST-MODIFIED:20230730T203318Z
UID:10000132-1691848800-1691856000@lancastercityart.com
SUMMARY:Freestyle Jam Session
DESCRIPTION:Bring your own percussion instruments and feed your musical soul.
URL:https://lancastercityart.com/index.php/event/freestyle-jam-session/2023-08-12/
LOCATION:PAVAA Gallery\, 632 N Christian St\, Lancaster\, PA\, 17602\, United States
CATEGORIES:Live Music
ATTACH;FMTTYPE=image/jpeg:https://lancastercityart.com/wp-content/uploads/2023/07/Flying-flag-scaled.jpg
END:VEVENT
END:VCALENDAR