BEGIN:VCALENDAR
VERSION:2.0
PRODID:-//lancastercityart.com - ECPv6.3.6//NONSGML v1.0//EN
CALSCALE:GREGORIAN
METHOD:PUBLISH
X-WR-CALNAME:lancastercityart.com
X-ORIGINAL-URL:https://lancastercityart.com
X-WR-CALDESC:Events for lancastercityart.com
REFRESH-INTERVAL;VALUE=DURATION:PT1H
X-Robots-Tag:noindex
X-PUBLISHED-TTL:PT1H
BEGIN:VTIMEZONE
TZID:America/New_York
BEGIN:DAYLIGHT
TZOFFSETFROM:-0500
TZOFFSETTO:-0400
TZNAME:EDT
DTSTART:20250309T070000
END:DAYLIGHT
BEGIN:STANDARD
TZOFFSETFROM:-0400
TZOFFSETTO:-0500
TZNAME:EST
DTSTART:20251102T060000
END:STANDARD
TZID:Europe/London
BEGIN:DAYLIGHT
TZOFFSETFROM:+0000
TZOFFSETTO:+0100
TZNAME:BST
DTSTART:20240331T010000
END:DAYLIGHT
BEGIN:STANDARD
TZOFFSETFROM:+0100
TZOFFSETTO:+0000
TZNAME:GMT
DTSTART:20241027T010000
END:STANDARD
BEGIN:DAYLIGHT
TZOFFSETFROM:+0000
TZOFFSETTO:+0100
TZNAME:BST
DTSTART:20250330T010000
END:DAYLIGHT
BEGIN:STANDARD
TZOFFSETFROM:+0100
TZOFFSETTO:+0000
TZNAME:GMT
DTSTART:20251026T010000
END:STANDARD
END:VTIMEZONE
BEGIN:VEVENT
DTSTART;TZID=America/New_York:20251209T190000
DTEND;TZID=America/New_York:20251209T200000
DTSTAMP:20260423T080505
CREATED:20251030T161243Z
LAST-MODIFIED:20251030T161243Z
UID:10000561-1765306800-1765310400@lancastercityart.com
SUMMARY:Artist Talk with John Tallman at cuiro.
DESCRIPTION:Join us for an evening in the gallery with exhibition artist John Tallman as we discuss his process\, concepts and work in his show No Expectations. Conversations and questions are welcome! Light refreshments will be available. \nAbout the show:\nAn exhibition titled “NO EXPECTATIONS” sets a particular stage. One with an air of play\, exploration\, and spontaneity. It’s in these modes that invention and experimentation are afforded the opportunity to come to the forefront. Actions\, gestures\, decisions are all taken seriously\, though the pressure that sometimes comes with them is tamped down. The results\, evidenced in John’s pieces are exciting\, thoughtful\, and complete- they show their history in their making. \nFrom John Tallman’s Artist Statement:\n“My current work involves discovering a sense of place. Coming in touch with\, through lived experience or some particular ephemera\, a landscape or an environment. At its essence\, this is a hodgepodge of sensory experiences and memory. Nostalgia plays a role. Memories play a role. The impermanence of everything plays a role. On display in the exhibition will be a collection of prints. Sensations become flesh.”
URL:https://lancastercityart.com/index.php/event/artist-talk-with-john-tallman-at-cuiro/
LOCATION:CURIO. GALLERY & CREATIVE SUPPLY\, 106 W Chestnut St\, Lancaster\, PA\, 17601\, United States
CATEGORIES:Lectures
ATTACH;FMTTYPE=image/jpeg:https://lancastercityart.com/wp-content/uploads/2025/10/John-Tallman-2.jpg
END:VEVENT
BEGIN:VEVENT
DTSTART;TZID=America/New_York:20250915T190000
DTEND;TZID=America/New_York:20250915T200000
DTSTAMP:20260423T080505
CREATED:20250904T175059Z
LAST-MODIFIED:20250904T175059Z
UID:10000556-1757962800-1757966400@lancastercityart.com
SUMMARY:Virtual Artist Talk & Reading with Erin Dorney
DESCRIPTION:curio. Gallery & Creative Supply is so thrilled to host gallery artist Erin Dorney for a Virtual Artist Talk & Reading on Monday September 15th at 7:00pm EST through Zoom! Set a reminder to join us for this free virtual event as we talk about Erin’s collages in the exhibition which are published in her recent book Yes I Am Human I Know You Were Wondering.  \nZoom Meeting Link: https://us06web.zoom.us/j/81139159516?pwd=88z9UJTsdXZpWTrSUmrSzxycKwEIal.1\nMeeting ID: 811 3915 9516\nPasscode: 771388 \nAbout the exhibition:\nDorney’s collages play with depth- not just near and far\, but the depth of thought and place. A depth that makes you consider the boundaries. Where you draw the line between the collage and the poem. Are they one-in-the-same\, or is there a distinction? Does a line need to exist in the first place? \nIn a few thoughtfully placed words she creates a narrative\, touches on an emotion or a memory\, and evokes a sense of atmosphere. They can keep you at arms length or pull you in close. Each one is razor sharp in the pairing of their text and imagery. Some have humor\, others have a ring of wisdom that read like maxims for the here\, now\, and gone. \nThe concept of  “saying more with less” is exemplified masterfully. Often in fewer than 5 actions\, Dorney composes powerful artworks that touch on principles of design\, psychology\, and language. Limited palettes\, bold shapes\, complex textures\, and intuitive placement make each piece a world unto itself\, productive and strong. Their text read as signs of civilization\, where one can travel to look for connection and understanding from another.
URL:https://lancastercityart.com/index.php/event/virtual-artist-talk-reading-with-erin-dorney/
LOCATION:CURIO. GALLERY & CREATIVE SUPPLY\, 106 W Chestnut St\, Lancaster\, PA\, 17601\, United States
CATEGORIES:Lectures
ATTACH;FMTTYPE=image/jpeg:https://lancastercityart.com/wp-content/uploads/2025/09/E-Dorney-vitual-talk-scaled.jpg
END:VEVENT
BEGIN:VEVENT
DTSTART;TZID=Europe/London:20250628T140000
DTEND;TZID=Europe/London:20250628T160000
DTSTAMP:20260423T080505
CREATED:20250528T213327Z
LAST-MODIFIED:20250528T213327Z
UID:10000407-1751119200-1751126400@lancastercityart.com
SUMMARY:DEMO DAY: Color Pencil at curio. Gallery & Creative Supply
DESCRIPTION:We’re thrilled to announce the next installment in our DEMO DAY series\, this time we are focusing on Color Pencils! A medium that can be soft and ethereal\, like a cloud or veil of smoke\, or bold and powerful with strong\, vibrant passages of color. Each brand of pencil – even particular colors- has their own way of being used\, and discovering their strengths can help you make the most of your time behind the easel. Join Matt in our workshop space and observe as he demonstrates his favorite approaches and application techniques. Gain insight into how he builds a drawing and ask him any question you may have throughout the session. \nSpace is limited\, register to secure your spot to join us Saturday June 28th 2:00-4:00pm in the curio. workshop space!
URL:https://lancastercityart.com/index.php/event/demo-day-color-pencil-at-curio-gallery-creative-supply/
LOCATION:CURIO. GALLERY & CREATIVE SUPPLY\, 106 W Chestnut St\, Lancaster\, PA\, 17601\, United States
CATEGORIES:Lectures
ATTACH;FMTTYPE=image/jpeg:https://lancastercityart.com/wp-content/uploads/2025/05/6.7-demo-day-color-pencil-v2-copy-scaled.jpg
END:VEVENT
BEGIN:VEVENT
DTSTART;TZID=Europe/London:20250513T190000
DTEND;TZID=Europe/London:20250513T200000
DTSTAMP:20260423T080505
CREATED:20250414T224821Z
LAST-MODIFIED:20250414T224821Z
UID:10000393-1747162800-1747166400@lancastercityart.com
SUMMARY:6x10B Drawing Invitational Curator's Talk
DESCRIPTION:Join curio. Gallery & Creative Supply on the evening of Tuesday May 13th from 7:00-8:00pm for a relaxed conversation with 6x10B co-curators and artists Jeff Geib\, Evan Kitson and Matt Allyn Chapman. Getting together with these three is always an inspirational time! We hope you can spend the hour with us as they dive into the details of the current exhibition\, their love of drawing\, and working with the humble pencil. Questions and conversation are welcome!
URL:https://lancastercityart.com/index.php/event/6x10b-drawing-invitational-curators-talk/
LOCATION:CURIO. GALLERY & CREATIVE SUPPLY\, 106 W Chestnut St\, Lancaster\, PA\, 17601\, United States
CATEGORIES:Lectures
ATTACH;FMTTYPE=image/jpeg:https://lancastercityart.com/wp-content/uploads/2025/04/6x10B-Curators-Talk.jpg
END:VEVENT
BEGIN:VEVENT
DTSTART;TZID=Europe/London:20250503T110000
DTEND;TZID=Europe/London:20250503T110000
DTSTAMP:20260423T080505
CREATED:20250416T001842Z
LAST-MODIFIED:20250416T001903Z
UID:10000400-1746270000-1746270000@lancastercityart.com
SUMMARY:Artist Talk and Demonstration with Resident Artist\, Melissa Zane Saturday\, May 3 rd at 11:00 AM
DESCRIPTION:Join local artist Melissa S Zane for an engaging artist talk and live painting demonstration\nduring Lancaster&#39;s Spring Art Walk. Melissa will discuss her newest exhibition\, &quot;Nature\nMagnified\,&quot; a vibrant collection of acrylic paintings that invites viewers to see the natural world\nthrough an enhanced lens of color\, texture\, and light. \nKnown for her signature layered metallic acrylic technique\, Melissa will showcase her process in\nreal time—demonstrating how she builds up rich\, textured surfaces through high-relief paintings\nwith intricate patterns\, and shimmering touches of gold and bronze. During the demo\, she’ll\nexplain how each piece takes on a life of its own\, guided by intuition and appreciation for nature\nand the small natural elements surrounding us.\n&quot;Nature Magnified&quot; explores the beauty found in the overlooked details of our environment: the\ntwist of a tree branch\, the curl of a leaf\, the play of sunlight across a petal. Through bold colors\,\norganic design\, and metallic or iridescent paints that shift with the light\, Melissa’s work\nencourages viewers to look deeper and experience nature from a fresh perspective.\nInfluenced by the Art Nouveau movement\, the intricate designs of William Morris\, and the\norganic forms celebrated by Georgia O’Keeffe\, Melissa blends realism with artistic\ninterpretation. Her paintings are more than visual experiences—they are invitations to slow\ndown\, to notice\, and to marvel. \nWhether you’re a fellow artist\, a nature lover\, or simply curious about the creative process\, this\nlive event offers a unique behind-the-scenes look at how Melissa brings her vibrant visions to\nlife. Don’t miss this opportunity to connect with the artist\, ask questions\, and see a painting\nevolve before your eyes.\nFree Event – Open to the Public\nFor more info:\nhttps://www.lancasterartvault.com/shows-workshops-events/artist-talk-and-demonstration-with- resident-artist-melissa-zane
URL:https://lancastercityart.com/index.php/event/artist-talk-and-demonstration-with-resident-artist-melissa-zane-saturday-may-3-rd-at-1100-am/
LOCATION:PA
CATEGORIES:Lectures,Special Event
END:VEVENT
BEGIN:VEVENT
DTSTART;TZID=Europe/London:20250417T170000
DTEND;TZID=Europe/London:20250417T183000
DTSTAMP:20260423T080505
CREATED:20250328T182349Z
LAST-MODIFIED:20250328T182349Z
UID:10000322-1744909200-1744914600@lancastercityart.com
SUMMARY:Artist Talk & Panel Discussion: Finding Joseph’s Many Colors Thursday\, April 17 6:00-7:30PM (doors open at 5:30PM)
DESCRIPTION:Join us for an inspiring evening as emerging artist Joseph Roach debuts his powerful new series\,\n“Finding Joseph’s Many Colors: Autism and the Gifts Within.” Through expressive color and\npersonal perspective\, Joseph’s work offers a vibrant reflection on the beauty of neurodiversity\nand the creative gifts that often accompany it.\nFollowing the artist talk\, stay for a panel discussion led by Friendship Community\, highlighting\nresources and opportunities within the arts for individuals with intellectual disabilities and\nautism.\nLet’s come together to celebrate diverse talents\, self-expression\, and inclusive collaboration in\nthe arts.\nFree and open to the public. All are welcome!\nMore Info and Register at www.LancasterArtVault.com\nLancaster Art Vault is located at 100 North Queen Street\, Lancaster.\nEmail Info@LancasterArtVault.com for more information.
URL:https://lancastercityart.com/index.php/event/artist-talk-panel-discussion-finding-josephs-many-colors-thursday-april-17-600-730pm-doors-open-at-530pm/
LOCATION:PA
CATEGORIES:Lectures
ATTACH;FMTTYPE=image/jpeg:https://lancastercityart.com/wp-content/uploads/2025/03/Artist-Talk-and-Panel-with-Joseph-Roach-and-Friendship-Community.jpg
END:VEVENT
BEGIN:VEVENT
DTSTART;TZID=Europe/London:20250412T110000
DTEND;TZID=Europe/London:20250412T120000
DTSTAMP:20260423T080505
CREATED:20250328T181741Z
LAST-MODIFIED:20250328T181741Z
UID:10000257-1744455600-1744459200@lancastercityart.com
SUMMARY:Pysanky Artist Talk & Demonstration with Jennifer Domal Saturday\, April 12 11:00AM-12:00 PM
DESCRIPTION:Join Guest Artist Jennifer Domal as she speaks about the ancient art of Pysanky. Pysanky are\ndecorated eggs created using the beeswax resist (batik) technique. The word comes from the verb\n“pysaty” which means “to write”.\nThese talismans have a long\, rich history among the peoples of Eastern and Central Europe\,\nparticularly Ukrainians and Poles. The intricate designs on real eggshells were originally written\nas requests to gods and goddesses for health\, love\, wealth\, and fertility. \nToday\, artists continue this tradition\, using the same techniques and motifs to create new works\non blown eggshells. Their designs honor the past while engaging in dialogue with contemporary\nartistic practice.\nAbout the Artist:\nThrough the art of batik on natural eggshells\, Jennifer Domal explores the intricate dialogue\nbetween cultural heritage and historical decorative arts. Her work reinterprets traditional motifs\nby writing them with designs drawn from textile patterns\, architectural elements\, illuminated\nmanuscripts\, and period furniture\, creating visual narratives that span centuries of craft tradition.\nThe disciplined process of applying melted beeswax and dye to eggshells creates layered depths\nof color and pattern. Each artwork emerges through successive applications of wax and dye\,\nbuilding complex structures that tell stories of artistic evolution and interchange. The curved\nsurface of the egg transforms conventional decorative patterns into dynamic three-dimensional\ncompositions.
URL:https://lancastercityart.com/index.php/event/pysanky-artist-talk-demonstration-with-jennifer-domal-saturday-april-12-1100am-1200-pm/
LOCATION:PA
CATEGORIES:Lectures
ATTACH;FMTTYPE=image/jpeg:https://lancastercityart.com/wp-content/uploads/2025/03/Pysanky-Artist-Talk-and-Demo-with-Jennifer-Domal-.jpg
END:VEVENT
BEGIN:VEVENT
DTSTART;TZID=Europe/London:20250311T190000
DTEND;TZID=Europe/London:20250311T200000
DTSTAMP:20260423T080505
CREATED:20250213T210423Z
LAST-MODIFIED:20250213T210423Z
UID:10000231-1741719600-1741723200@lancastercityart.com
SUMMARY:Artist Talk with Isiah Bates
DESCRIPTION:Join us for a talk on Tuesday March 11th 7:00-8:00pm with gallery artist Isiah Bates and his show Visions of Modular Dreamscapes\, currently on view through March 29th.\nCurator Matt Allyn Chapman will lead the conversation\, questions and thoughts are welcome throughout!\nLight refreshments will be served. \nSelection from the Exhibition Copy: \nOur dreams have purpose\, though mysterious and hard to fully grasp\, we are coming to understand them more and more. Memory retention\, emotional repair\, cognitive stimulation during periods of rest\, these are just a few of the benefits of our dreams. Physically and mentally\, they are deeply important\, though creatively\, they can be instrumental. Isiah draws from the creative well that his dreams have sprung to mesmerizing effect. Each time pulling something to the surface that feels impossible. Landscapes never visited\, people and beings both familiar and strange\, entities and energies that only make sense in the logic and possibility of the dreaming world. It’s really when his hands and mind connect that they are made material. \n“This body of work represents a true exploration of self\, in its purest form. An unfiltered reality waiting to be pieced together. By letting my hand move across the surface without any true direction\, I can actively pull from this other reality. This process lessens the stress of perfection and creates a direct link between the waking world and that of the mind. This allows me to create a dreamscape of raw emotion and lived experience. Then I sit back and analyze with the viewer. I may not know what they all mean quite yet\, but a new piece of the story is revealed with each painting. This is what drives me to make more. An ongoing process of self discovery through art. I am both the artist and the audience.”
URL:https://lancastercityart.com/index.php/event/artist-talk-with-isiah-bates/
LOCATION:CURIO. GALLERY & CREATIVE SUPPLY\, 106 W Chestnut St\, Lancaster\, PA\, 17601\, United States
CATEGORIES:Art Exhibition,Lectures
ATTACH;FMTTYPE=image/jpeg:https://lancastercityart.com/wp-content/uploads/2025/02/Artist-Talk-scaled.jpg
END:VEVENT
BEGIN:VEVENT
DTSTART;TZID=Europe/London:20241107T190000
DTEND;TZID=Europe/London:20241107T200000
DTSTAMP:20260423T080505
CREATED:20241023T195018Z
LAST-MODIFIED:20241023T195018Z
UID:10000219-1731006000-1731009600@lancastercityart.com
SUMMARY:Artist Talk with Alicia Byler
DESCRIPTION:Join curio. Gallery & Creative Supply for an artist talk with Alicia Byler as we discuss her current exhibition\, Weirdo Goddess & Other Love Stories. We’ll cover process\, inspiration\, and her exploration of collage and photographic prints. Questions and conversation are welcome; light refreshments will be served! \n—————– \nThe exhibition is on view through November 30th \n“It began on a sunny day in Mexico\, February 2022. My shadow emerged in front of me\, perfectly placed. And suddenly there she was in the clear water of the lagoon inviting me. My breath caught; who was this creature? My doppelganger\, a creative beckoning. And I felt enamored and I responded to the call: yes. \nThis discovery led to the Water Nymph\, Weirdo Goddess and Little Love Stories series\, all tied together in a surrealist imagining of my curiosity about our relationship with nature (and each other) and how we communicate\, the sensual connections. If we pay attention\, the Weirdo Goddess and Water Nymphs emerge and appear as apparitions of nature offering small gestures\, gifts and amulets of protection we receive via portals like water\, plants\, animals\, rest and daydreams.”\n– Alicia Byler
URL:https://lancastercityart.com/index.php/event/artist-talk-with-alicia-byler/
LOCATION:CURIO. GALLERY & CREATIVE SUPPLY\, 106 W Chestnut St\, Lancaster\, PA\, 17601\, United States
CATEGORIES:Art Exhibition,Lectures
ATTACH;FMTTYPE=image/jpeg:https://lancastercityart.com/wp-content/uploads/2024/10/Artist-Talk-scaled.jpg
END:VEVENT
BEGIN:VEVENT
DTSTART;TZID=Europe/London:20240323T140000
DTEND;TZID=Europe/London:20240323T160000
DTSTAMP:20260423T080505
CREATED:20240216T210719Z
LAST-MODIFIED:20240216T210719Z
UID:10000190-1711202400-1711209600@lancastercityart.com
SUMMARY:curio. Demo Day: Watercolor
DESCRIPTION:Sign up to join curio. for our first Demo event of 2024 on March 23rd\, 2:00-4:00pm! Matt will be working with one of his favorite mediums\, watercolor! Over the course of two hours\, he will build an artwork from the beginning\, explaining his process and answering questions from guests along the way. Watercolor is appreciated by many artists for its immediacy and opportunity for control\, while also offering the expressive gestural fluidity and vibrant application it’s known for. \nOpen discussion\, questions\, and other conversation is welcome and most definitely encouraged. \nSpace is limited to 10 people\, pre-registration is required. \nPlease note curio. is located down a flight of stairs.
URL:https://lancastercityart.com/index.php/event/curio-demo-day-watercolor/
LOCATION:CURIO. GALLERY & CREATIVE SUPPLY\, 106 W Chestnut St\, Lancaster\, PA\, 17601\, United States
CATEGORIES:Lectures
ATTACH;FMTTYPE=image/jpeg:https://lancastercityart.com/wp-content/uploads/2024/02/3.23-demo-day-watercolor-copy-scaled.jpg
END:VEVENT
BEGIN:VEVENT
DTSTART;TZID=Europe/London:20240305T190000
DTEND;TZID=Europe/London:20240305T200000
DTSTAMP:20260423T080505
CREATED:20240222T202730Z
LAST-MODIFIED:20240222T202730Z
UID:10000194-1709665200-1709668800@lancastercityart.com
SUMMARY:Artist Talk with Joanna Davis
DESCRIPTION:We are excited to host gallery artist Joanna Davis for an Artist Talk focused on her exhibition Pathways & Formations on Tuesday March 5th at 7:00pm! Free to attend\, join us for a conversation discussing the range of work in the exhibition\, navigate the different sources of inspiration and talk about materials.\nBring your questions\, conversation and enjoy light refreshments!\n——–\nAbout the show:\nBringing together multiple bodies of work\, spanning very recent and the inevitably lengthening past\, artist Joanna Davis shows us how she carries a thread of connection in one hand and a brush in the other. \nNatural wonders of the mind rise from landscapes in watercolor while collages act as hand drawn maps and ciphers to emotional destinations. Each piece is a part of a collective sojourn that individually we are familiar with\, if we take the time to recognize it in ourselves. \nCreating anything with our hands takes time\, a variable degree of intention\, and focus. When we allow ourselves the time to slow the passing of our days and call back the events that make them\, we relive them\, for better or worse. When Joanna mines these events she finds pockets of creative crystals. Much like the mineral\, they are resilient even if sometimes fragmented\, formed in irregular shapes- dictated by the pressure of their surroundings\, and endlessly intriguing. \nJoanna’s Neural Pathway series resonates like a singing bowl. The pieces speak to the thoughts we keep to ourselves as their sine wave circulates in our head. Thoughts of how we understand the world\, and how in turn we are understood. Emotions that challenge us when we are at our most fragile\, and our most resolute. Almost “automatic”\, they feel unconcerned with their legibility. Instead they revel in their spontaneity\nWalls and Formations is a series that exists in the abstract. Floating islands and land masses hang in the negative space\, bound only by their surface’s physical boundaries. These landscapes have all the serenity of walking alone in a sunbathed field and amongst the shade of trees\, the raw fury and indiscriminate consumption of wildfire\, along with the blackened aftermath. \nShifting the lens in which we look through into one that finds metaphor\, one could arrive at many. Abundance and drought\, the search for ourselves within ourselves\, how we connect to the environments around us\, and the people who occupy them with us.
URL:https://lancastercityart.com/index.php/event/artist-talk-with-joanna-davis/
LOCATION:CURIO. GALLERY & CREATIVE SUPPLY\, 106 W Chestnut St\, Lancaster\, PA\, 17601\, United States
CATEGORIES:Lectures
ATTACH;FMTTYPE=image/jpeg:https://lancastercityart.com/wp-content/uploads/2024/02/Artist-Talk-promo.jpg
END:VEVENT
BEGIN:VEVENT
DTSTART;TZID=Europe/London:20240123T190000
DTEND;TZID=Europe/London:20240123T210000
DTSTAMP:20260423T080505
CREATED:20240112T050010Z
LAST-MODIFIED:20240112T050010Z
UID:10000185-1706036400-1706043600@lancastercityart.com
SUMMARY:Artist Talk with Angie Hohenadel
DESCRIPTION:curio. is excited to host gallery artist Angie Hohenadel for an Artist Talk focused on her exhibition Little Whispered Moments on Tuesday January 23rd at 7:00pm! Free to attend\, join us for a delightful evening discussing the creation of the work in Little Whispered Moments\, her use of Posca paint markers\, and wild imagination. Bring your questions\, conversation and enjoy light refreshments!
URL:https://lancastercityart.com/index.php/event/artist-talk-with-angie-hohenadel/
LOCATION:CURIO. GALLERY & CREATIVE SUPPLY\, 106 W Chestnut St\, Lancaster\, PA\, 17601\, United States
CATEGORIES:Art Exhibition,Community Event,Lectures
ATTACH;FMTTYPE=image/jpeg:https://lancastercityart.com/wp-content/uploads/2024/01/Angie-Artist-Talk-Promo-IG-friendly-scaled.jpg
END:VEVENT
END:VCALENDAR