BEGIN:VCALENDAR
VERSION:2.0
PRODID:-//lancastercityart.com - ECPv6.3.6//NONSGML v1.0//EN
CALSCALE:GREGORIAN
METHOD:PUBLISH
X-ORIGINAL-URL:https://lancastercityart.com
X-WR-CALDESC:Events for lancastercityart.com
REFRESH-INTERVAL;VALUE=DURATION:PT1H
X-Robots-Tag:noindex
X-PUBLISHED-TTL:PT1H
BEGIN:VTIMEZONE
TZID:Europe/London
BEGIN:DAYLIGHT
TZOFFSETFROM:+0000
TZOFFSETTO:+0100
TZNAME:BST
DTSTART:20250330T010000
END:DAYLIGHT
BEGIN:STANDARD
TZOFFSETFROM:+0100
TZOFFSETTO:+0000
TZNAME:GMT
DTSTART:20251026T010000
END:STANDARD
END:VTIMEZONE
BEGIN:VEVENT
DTSTART;TZID=Europe/London:20250208T110000
DTEND;TZID=Europe/London:20250208T140000
DTSTAMP:20260424T044516
CREATED:20250114T232934Z
LAST-MODIFIED:20250128T203107Z
UID:10000229-1739012400-1739023200@lancastercityart.com
SUMMARY:2025 Art & Coffee Crawl • Saturday\, February 8 • 11 AM – 2 PM
DESCRIPTION:2025 Art & Coffee Crawl\nThe perfect way to escape the winter chill\, embrace the season’s creative energy\, and discover something new. \n\nExplore a curated collection of art from Lancaster’s finest artists.\nSip your favorite coffee or warming cuppa tea\, perhaps indulge in a glass of bubbly.\nSavor delightful\, sweet treats along the way.\n\nParticipants\n\n\n\nLocation\nAddress\n\n\ncurio. Gallery & Creative Supply\n106 W. Chestnut Street\n\n\nDenim Coffee\n221 W. King Street\n\n\nFreiman Stoltzfus Gallery\n142 N. Prince Street\n\n\nFriendship Heart Gallery & Studio\n118 N. Water Street\n\n\nKaren Anderer Fine Art\n146 N. Prince Street\n\n\nLancaster Art Vault\n100 N. Queen Street\n\n\nLancaster Museum of Art\n135 N. Lime Street\n\n\nLiz Hess Gallery\n140 N. Prince Street\n\n\nNooks Gallery & Bookstore\n112 N. Prince Street\n\n\nRed Raven Art Company\n138 N. Prince Street\n\n\nThe Demuth Museum\n120 E. King Street\n\n\nThe Framing Concept\n328 N. Queen Street\n\n\nThe Arts at Millersville – Ware Center\n42 N. Prince Street\n\n\nThird Story Art\n44 N. Christian Street\n\n\n\nWhether you’re an art enthusiast\, a coffee lover\, or simply looking for a fun winter outing\, the Art & Coffee Crawl promises to warm your heart and inspire your creativity.
URL:https://lancastercityart.com/index.php/event/2025-coffee-crawl/
LOCATION:Red Raven Art Company\, 138 North Prince St\, Lancaster\, PA\, 17603\, United States
CATEGORIES:Event image
ATTACH;FMTTYPE=image/png:https://lancastercityart.com/wp-content/uploads/2025/01/2025-ART-COFFEE-CRAWL-1.png
END:VEVENT
END:VCALENDAR