BEGIN:VCALENDAR
VERSION:2.0
PRODID:-//lancastercityart.com - ECPv6.3.6//NONSGML v1.0//EN
CALSCALE:GREGORIAN
METHOD:PUBLISH
X-ORIGINAL-URL:https://lancastercityart.com
X-WR-CALDESC:Events for lancastercityart.com
REFRESH-INTERVAL;VALUE=DURATION:PT1H
X-Robots-Tag:noindex
X-PUBLISHED-TTL:PT1H
BEGIN:VTIMEZONE
TZID:Europe/London
BEGIN:DAYLIGHT
TZOFFSETFROM:+0000
TZOFFSETTO:+0100
TZNAME:BST
DTSTART:20230326T010000
END:DAYLIGHT
BEGIN:STANDARD
TZOFFSETFROM:+0100
TZOFFSETTO:+0000
TZNAME:GMT
DTSTART:20231029T010000
END:STANDARD
END:VTIMEZONE
BEGIN:VEVENT
DTSTART;TZID=Europe/London:20231022T110000
DTEND;TZID=Europe/London:20231022T170000
DTSTAMP:20260424T042513
CREATED:20230726T033345Z
LAST-MODIFIED:20230726T033345Z
UID:10000034-1697972400-1697994000@lancastercityart.com
SUMMARY:Lancaster Art Walk
DESCRIPTION:PAVAA participates in Lancaster City’s Art Walk. Come sip some wine\, browse African art\, watch videos of Liberia\, W. Africa\, in a musical atmosphere.
URL:https://lancastercityart.com/index.php/event/lancaster-art-walk/2023-10-22/
LOCATION:PAVAA Gallery\, 632 N Christian St\, Lancaster\, PA\, 17602\, United States
CATEGORIES:Community Event
ATTACH;FMTTYPE=image/jpeg:https://lancastercityart.com/wp-content/uploads/2023/07/Flying-flag-5-scaled.jpg
END:VEVENT
BEGIN:VEVENT
DTSTART;TZID=Europe/London:20231022T120000
DTEND;TZID=Europe/London:20231022T160000
DTSTAMP:20260424T042513
CREATED:20231012T004835Z
LAST-MODIFIED:20231012T004835Z
UID:10000177-1697976000-1697990400@lancastercityart.com
SUMMARY:Fall ArtWalk at Lancaster Galleries: E.M. Saniga "Drawings and Studies"
DESCRIPTION:Join us for the annual Fall Artwalk at Lancaster Galleries! Explore the fabulous work of E. M. Saniga in his solo exhibition: “Drawings and Studies”. Enjoy these breathtaking works with light refreshments during our extended hours\, Saturday\, Oct. 21 from 10-4 and Sunday\, Oct. 22 from 12-4! We hope you can join us!
URL:https://lancastercityart.com/index.php/event/fall-artwalk-at-lancaster-galleries-e-m-saniga-drawings-and-studies/2023-10-22/
LOCATION:Lancaster Galleries\, 34 North Water St\, Lancaster\, PA\, 17603\, United States
CATEGORIES:Art Exhibition,Community Event,Special Event
ATTACH;FMTTYPE=image/jpeg:https://lancastercityart.com/wp-content/uploads/2023/10/E.M.-Saniga-FB-Cover.jpg
END:VEVENT
END:VCALENDAR