BEGIN:VCALENDAR
VERSION:2.0
PRODID:-//lancastercityart.com - ECPv6.3.6//NONSGML v1.0//EN
CALSCALE:GREGORIAN
METHOD:PUBLISH
X-ORIGINAL-URL:https://lancastercityart.com
X-WR-CALDESC:Events for lancastercityart.com
REFRESH-INTERVAL;VALUE=DURATION:PT1H
X-Robots-Tag:noindex
X-PUBLISHED-TTL:PT1H
BEGIN:VTIMEZONE
TZID:Europe/London
BEGIN:DAYLIGHT
TZOFFSETFROM:+0000
TZOFFSETTO:+0100
TZNAME:BST
DTSTART:20230326T010000
END:DAYLIGHT
BEGIN:STANDARD
TZOFFSETFROM:+0100
TZOFFSETTO:+0000
TZNAME:GMT
DTSTART:20231029T010000
END:STANDARD
END:VTIMEZONE
BEGIN:VEVENT
DTSTART;TZID=Europe/London:20230804T160000
DTEND;TZID=Europe/London:20230804T193000
DTSTAMP:20260424T072654
CREATED:20230726T030859Z
LAST-MODIFIED:20230726T030859Z
UID:10000027-1691164800-1691177400@lancastercityart.com
SUMMARY:First Fridays at PAVAA Gallery
DESCRIPTION:FREE. Open every first Friday from now until Nov. 3rd. Art sale. 50% off all framed originals.
URL:https://lancastercityart.com/index.php/event/first-fridays-at-pavaa-gallery/2023-08-04/
LOCATION:PAVAA Gallery\, 632 N Christian St\, Lancaster\, PA\, 17602\, United States
CATEGORIES:Community Event
ATTACH;FMTTYPE=image/jpeg:https://lancastercityart.com/wp-content/uploads/2023/07/Flying-flag-3-scaled.jpg
END:VEVENT
BEGIN:VEVENT
DTSTART;TZID=Europe/London:20230804T170000
DTEND;TZID=Europe/London:20230804T200000
DTSTAMP:20260424T072654
CREATED:20230728T225322Z
LAST-MODIFIED:20230728T225322Z
UID:10000044-1691168400-1691179200@lancastercityart.com
SUMMARY:August First Friday at Lancaster Galleries
DESCRIPTION:Join us Friday\, August 4th from 5 – 8 pm for the First Friday and artist reception of Clara Kewley “Shape and Color”. Enjoy wonderful art and light refreshments. We hope you can join us! Exhibition runs thru September 9\, 2023.
URL:https://lancastercityart.com/index.php/event/august-first-friday-at-lancaster-galleries/
LOCATION:Lancaster Galleries\, 34 North Water St\, Lancaster\, PA\, 17603\, United States
CATEGORIES:Art Exhibition,Community Event,Special Event
ATTACH;FMTTYPE=image/jpeg:https://lancastercityart.com/wp-content/uploads/2023/07/Clara-Kewley-View-from-Lancaster-Porch-painted-paper-collage-2.875-x-2.875-inches-1.jpeg
END:VEVENT
BEGIN:VEVENT
DTSTART;TZID=Europe/London:20230817T190000
DTEND;TZID=Europe/London:20230817T210000
DTSTAMP:20260424T072654
CREATED:20230725T201634Z
LAST-MODIFIED:20230725T201634Z
UID:10000021-1692298800-1692306000@lancastercityart.com
SUMMARY:curio. Sketchbook Club
DESCRIPTION:The curio. Sketchbook Club is a local drawing meet up where participants draw from a new still life each week. Be inspired by the set up\, draw the entire still life or focus on one or two objects\, find inspiration in color\, shape or pattern or draw something else entirely! Use any media you’d like\, create one piece or work on several- there are no rules in this relaxed atmosphere. \nFree to join\, no registration needed. All ages and skill levels are welcome.
URL:https://lancastercityart.com/index.php/event/curio-sketchbook-club-2/
LOCATION:CURIO. GALLERY & CREATIVE SUPPLY\, 106 W Chestnut St\, Lancaster\, PA\, 17601\, United States
CATEGORIES:Community Event
ATTACH;FMTTYPE=image/jpeg:https://lancastercityart.com/wp-content/uploads/2023/07/sketchclub-website-logo.jpg
END:VEVENT
BEGIN:VEVENT
DTSTART;TZID=Europe/London:20230818T100000
DTEND;TZID=Europe/London:20230818T160000
DTSTAMP:20260424T072654
CREATED:20230728T234333Z
LAST-MODIFIED:20230728T234333Z
UID:10000045-1692352800-1692374400@lancastercityart.com
SUMMARY:Lancaster City Indie Retail Week at Lancaster Galleries
DESCRIPTION:15% Off New Custom Framing orders taken during Lancaster City Indie Retail Week; Friday\, August 18 – Saturday\, August 26\, 2023
URL:https://lancastercityart.com/index.php/event/lancaster-city-indie-retail-week-at-lancaster-galleries/2023-08-18/
LOCATION:Lancaster Galleries\, 34 North Water St\, Lancaster\, PA\, 17603\, United States
CATEGORIES:Community Event,Special Event
ATTACH;FMTTYPE=image/jpeg:https://lancastercityart.com/wp-content/uploads/2023/07/Gallery-Front-New.jpg
END:VEVENT
BEGIN:VEVENT
DTSTART;TZID=Europe/London:20230819T100000
DTEND;TZID=Europe/London:20230819T160000
DTSTAMP:20260424T072654
CREATED:20230728T234333Z
LAST-MODIFIED:20230728T234333Z
UID:10000046-1692439200-1692460800@lancastercityart.com
SUMMARY:Lancaster City Indie Retail Week at Lancaster Galleries
DESCRIPTION:15% Off New Custom Framing orders taken during Lancaster City Indie Retail Week; Friday\, August 18 – Saturday\, August 26\, 2023
URL:https://lancastercityart.com/index.php/event/lancaster-city-indie-retail-week-at-lancaster-galleries/2023-08-19/
LOCATION:Lancaster Galleries\, 34 North Water St\, Lancaster\, PA\, 17603\, United States
CATEGORIES:Community Event,Special Event
ATTACH;FMTTYPE=image/jpeg:https://lancastercityart.com/wp-content/uploads/2023/07/Gallery-Front-New.jpg
END:VEVENT
BEGIN:VEVENT
DTSTART;TZID=Europe/London:20230819T123000
DTEND;TZID=Europe/London:20230819T170000
DTSTAMP:20260424T072654
CREATED:20230726T032358Z
LAST-MODIFIED:20230726T032358Z
UID:10000031-1692448200-1692464400@lancastercityart.com
SUMMARY:Indie Retail Week
DESCRIPTION:PAVAA participates on both Saturdays in Lancaster’s Indie Retail Week\, Aug. 19 and 26.  Is it time to freshen up your art collection? 50% off all framed one-of-a-kind originals\, and discounts on sculpture\, abstracts\, and more.
URL:https://lancastercityart.com/index.php/event/indie-retail-week/2023-08-19/
LOCATION:PAVAA Gallery\, 632 N Christian St\, Lancaster\, PA\, 17602\, United States
CATEGORIES:Community Event
ATTACH;FMTTYPE=image/jpeg:https://lancastercityart.com/wp-content/uploads/2023/07/Flying-flag-4-scaled.jpg
END:VEVENT
BEGIN:VEVENT
DTSTART;TZID=Europe/London:20230822T100000
DTEND;TZID=Europe/London:20230822T160000
DTSTAMP:20260424T072654
CREATED:20230728T234333Z
LAST-MODIFIED:20230728T234333Z
UID:10000047-1692698400-1692720000@lancastercityart.com
SUMMARY:Lancaster City Indie Retail Week at Lancaster Galleries
DESCRIPTION:15% Off New Custom Framing orders taken during Lancaster City Indie Retail Week; Friday\, August 18 – Saturday\, August 26\, 2023
URL:https://lancastercityart.com/index.php/event/lancaster-city-indie-retail-week-at-lancaster-galleries/2023-08-22/
LOCATION:Lancaster Galleries\, 34 North Water St\, Lancaster\, PA\, 17603\, United States
CATEGORIES:Community Event,Special Event
ATTACH;FMTTYPE=image/jpeg:https://lancastercityart.com/wp-content/uploads/2023/07/Gallery-Front-New.jpg
END:VEVENT
BEGIN:VEVENT
DTSTART;TZID=Europe/London:20230823T100000
DTEND;TZID=Europe/London:20230823T160000
DTSTAMP:20260424T072654
CREATED:20230728T234333Z
LAST-MODIFIED:20230728T234333Z
UID:10000048-1692784800-1692806400@lancastercityart.com
SUMMARY:Lancaster City Indie Retail Week at Lancaster Galleries
DESCRIPTION:15% Off New Custom Framing orders taken during Lancaster City Indie Retail Week; Friday\, August 18 – Saturday\, August 26\, 2023
URL:https://lancastercityart.com/index.php/event/lancaster-city-indie-retail-week-at-lancaster-galleries/2023-08-23/
LOCATION:Lancaster Galleries\, 34 North Water St\, Lancaster\, PA\, 17603\, United States
CATEGORIES:Community Event,Special Event
ATTACH;FMTTYPE=image/jpeg:https://lancastercityart.com/wp-content/uploads/2023/07/Gallery-Front-New.jpg
END:VEVENT
BEGIN:VEVENT
DTSTART;TZID=Europe/London:20230824T100000
DTEND;TZID=Europe/London:20230824T160000
DTSTAMP:20260424T072654
CREATED:20230728T234333Z
LAST-MODIFIED:20230728T234333Z
UID:10000049-1692871200-1692892800@lancastercityart.com
SUMMARY:Lancaster City Indie Retail Week at Lancaster Galleries
DESCRIPTION:15% Off New Custom Framing orders taken during Lancaster City Indie Retail Week; Friday\, August 18 – Saturday\, August 26\, 2023
URL:https://lancastercityart.com/index.php/event/lancaster-city-indie-retail-week-at-lancaster-galleries/2023-08-24/
LOCATION:Lancaster Galleries\, 34 North Water St\, Lancaster\, PA\, 17603\, United States
CATEGORIES:Community Event,Special Event
ATTACH;FMTTYPE=image/jpeg:https://lancastercityart.com/wp-content/uploads/2023/07/Gallery-Front-New.jpg
END:VEVENT
BEGIN:VEVENT
DTSTART;TZID=Europe/London:20230824T190000
DTEND;TZID=Europe/London:20230824T210000
DTSTAMP:20260424T072654
CREATED:20230725T201721Z
LAST-MODIFIED:20230725T201721Z
UID:10000022-1692903600-1692910800@lancastercityart.com
SUMMARY:curio. Sketchbook Club
DESCRIPTION:The curio. Sketchbook Club is a local drawing meet up where participants draw from a new still life each week. Be inspired by the set up\, draw the entire still life or focus on one or two objects\, find inspiration in color\, shape or pattern or draw something else entirely! Use any media you’d like\, create one piece or work on several- there are no rules in this relaxed atmosphere. \nFree to join\, no registration needed. All ages and skill levels are welcome.
URL:https://lancastercityart.com/index.php/event/curio-sketchbook-club-3/
LOCATION:CURIO. GALLERY & CREATIVE SUPPLY\, 106 W Chestnut St\, Lancaster\, PA\, 17601\, United States
CATEGORIES:Community Event
ATTACH;FMTTYPE=image/jpeg:https://lancastercityart.com/wp-content/uploads/2023/07/sketchclub-website-logo-1.jpg
END:VEVENT
BEGIN:VEVENT
DTSTART;TZID=Europe/London:20230825T100000
DTEND;TZID=Europe/London:20230825T160000
DTSTAMP:20260424T072654
CREATED:20230728T234333Z
LAST-MODIFIED:20230728T234333Z
UID:10000050-1692957600-1692979200@lancastercityart.com
SUMMARY:Lancaster City Indie Retail Week at Lancaster Galleries
DESCRIPTION:15% Off New Custom Framing orders taken during Lancaster City Indie Retail Week; Friday\, August 18 – Saturday\, August 26\, 2023
URL:https://lancastercityart.com/index.php/event/lancaster-city-indie-retail-week-at-lancaster-galleries/2023-08-25/
LOCATION:Lancaster Galleries\, 34 North Water St\, Lancaster\, PA\, 17603\, United States
CATEGORIES:Community Event,Special Event
ATTACH;FMTTYPE=image/jpeg:https://lancastercityart.com/wp-content/uploads/2023/07/Gallery-Front-New.jpg
END:VEVENT
BEGIN:VEVENT
DTSTART;TZID=Europe/London:20230826T100000
DTEND;TZID=Europe/London:20230826T160000
DTSTAMP:20260424T072654
CREATED:20230728T234333Z
LAST-MODIFIED:20230728T234333Z
UID:10000051-1693044000-1693065600@lancastercityart.com
SUMMARY:Lancaster City Indie Retail Week at Lancaster Galleries
DESCRIPTION:15% Off New Custom Framing orders taken during Lancaster City Indie Retail Week; Friday\, August 18 – Saturday\, August 26\, 2023
URL:https://lancastercityart.com/index.php/event/lancaster-city-indie-retail-week-at-lancaster-galleries/2023-08-26/
LOCATION:Lancaster Galleries\, 34 North Water St\, Lancaster\, PA\, 17603\, United States
CATEGORIES:Community Event,Special Event
ATTACH;FMTTYPE=image/jpeg:https://lancastercityart.com/wp-content/uploads/2023/07/Gallery-Front-New.jpg
END:VEVENT
BEGIN:VEVENT
DTSTART;TZID=Europe/London:20230826T123000
DTEND;TZID=Europe/London:20230826T170000
DTSTAMP:20260424T072654
CREATED:20230726T032358Z
LAST-MODIFIED:20230726T032358Z
UID:10000032-1693053000-1693069200@lancastercityart.com
SUMMARY:Indie Retail Week
DESCRIPTION:PAVAA participates on both Saturdays in Lancaster’s Indie Retail Week\, Aug. 19 and 26.  Is it time to freshen up your art collection? 50% off all framed one-of-a-kind originals\, and discounts on sculpture\, abstracts\, and more.
URL:https://lancastercityart.com/index.php/event/indie-retail-week/2023-08-26/
LOCATION:PAVAA Gallery\, 632 N Christian St\, Lancaster\, PA\, 17602\, United States
CATEGORIES:Community Event
ATTACH;FMTTYPE=image/jpeg:https://lancastercityart.com/wp-content/uploads/2023/07/Flying-flag-4-scaled.jpg
END:VEVENT
END:VCALENDAR