BEGIN:VCALENDAR
VERSION:2.0
PRODID:-//lancastercityart.com - ECPv6.3.6//NONSGML v1.0//EN
CALSCALE:GREGORIAN
METHOD:PUBLISH
X-WR-CALNAME:lancastercityart.com
X-ORIGINAL-URL:https://lancastercityart.com
X-WR-CALDESC:Events for lancastercityart.com
REFRESH-INTERVAL;VALUE=DURATION:PT1H
X-Robots-Tag:noindex
X-PUBLISHED-TTL:PT1H
BEGIN:VTIMEZONE
TZID:Europe/London
BEGIN:DAYLIGHT
TZOFFSETFROM:+0000
TZOFFSETTO:+0100
TZNAME:BST
DTSTART:20250330T010000
END:DAYLIGHT
BEGIN:STANDARD
TZOFFSETFROM:+0100
TZOFFSETTO:+0000
TZNAME:GMT
DTSTART:20251026T010000
END:STANDARD
TZID:America/New_York
BEGIN:DAYLIGHT
TZOFFSETFROM:-0500
TZOFFSETTO:-0400
TZNAME:EDT
DTSTART:20250309T070000
END:DAYLIGHT
BEGIN:STANDARD
TZOFFSETFROM:-0400
TZOFFSETTO:-0500
TZNAME:EST
DTSTART:20251102T060000
END:STANDARD
END:VTIMEZONE
BEGIN:VEVENT
DTSTART;TZID=Europe/London:20251107T160000
DTEND;TZID=Europe/London:20251107T190000
DTSTAMP:20260423T174948
CREATED:20250328T182526Z
LAST-MODIFIED:20250328T182526Z
UID:10000330-1762531200-1762542000@lancastercityart.com
SUMMARY:Summer First Friday Artisan Markets First Fridays May – October  5:00-8:00 PM
DESCRIPTION:Artists\, Crafters\, Artisans and Visitors – Join in the First Friday celebrations at Lancaster Art\nVault!\nWe will be hosting a Artisan Market every First Friday from May-October\, 2025 outside\, under\nthe eaves of the building from 5-8PM.  Stop by and shop local artisans\, crafters and artists!\nVendors – Please apply at www.LancasterArtVault.com\n$20/Vendor Space\nMore Info and Register at www.LancasterArtVault.com\nLancaster Art Vault is located at 100 North Queen Street\, Lancaster.\nEmail Info@LancasterArtVault.com for more information.
URL:https://lancastercityart.com/index.php/event/summer-first-friday-artisan-markets-first-fridays-may-october-500-800-pm/2025-11-07/
LOCATION:PA
CATEGORIES:Art Exhibition,Community Event
END:VEVENT
BEGIN:VEVENT
DTSTART;TZID=America/New_York:20251107T170000
DTEND;TZID=America/New_York:20251107T200000
DTSTAMP:20260423T174948
CREATED:20251030T160621Z
LAST-MODIFIED:20251030T160621Z
UID:10000560-1762534800-1762545600@lancastercityart.com
SUMMARY:No Expectations: John Tallman Opening Reception at curio.
DESCRIPTION:Join us for the opening reception on First Friday November 7th 5:00-8:00pm for No Expectations featuring work by local artist John Tallman. \n An exhibition titled “NO EXPECTATIONS” sets a particular stage. One with an air of play\, exploration\, and spontaneity. It’s in these modes that invention and experimentation are afforded the opportunity to come to the forefront. Actions\, gestures\, decisions are all taken seriously\, though the pressure that sometimes comes with them is tamped down. The results\, evidenced in John’s pieces are exciting\, thoughtful\, and complete- they show their history in their making. \nLarge color blocks\, offset planes\, directional mark making\, torn edges\, and printed elements all come together in John’s artwork. At times they push their boundaries against one another like tectonic plates\, others open and close distances\, and some melt into each other with silky strands of material\, saturation\, and hue. \nThese prints become spaces we know\, or at least give the feeling like we may know them.
URL:https://lancastercityart.com/index.php/event/no-expectations-john-tallman-opening-reception-at-curio/
LOCATION:CURIO. GALLERY & CREATIVE SUPPLY\, 106 W Chestnut St\, Lancaster\, PA\, 17601\, United States
CATEGORIES:Art Exhibition
ATTACH;FMTTYPE=image/jpeg:https://lancastercityart.com/wp-content/uploads/2025/10/Main-Image_John-Tallman-1.jpg
END:VEVENT
END:VCALENDAR