BEGIN:VCALENDAR
VERSION:2.0
PRODID:-//lancastercityart.com - ECPv6.3.6//NONSGML v1.0//EN
CALSCALE:GREGORIAN
METHOD:PUBLISH
X-ORIGINAL-URL:https://lancastercityart.com
X-WR-CALDESC:Events for lancastercityart.com
REFRESH-INTERVAL;VALUE=DURATION:PT1H
X-Robots-Tag:noindex
X-PUBLISHED-TTL:PT1H
BEGIN:VTIMEZONE
TZID:America/New_York
BEGIN:DAYLIGHT
TZOFFSETFROM:-0500
TZOFFSETTO:-0400
TZNAME:EDT
DTSTART:20260308T070000
END:DAYLIGHT
BEGIN:STANDARD
TZOFFSETFROM:-0400
TZOFFSETTO:-0500
TZNAME:EST
DTSTART:20261101T060000
END:STANDARD
END:VTIMEZONE
BEGIN:VEVENT
DTSTART;TZID=America/New_York:20260310T110000
DTEND;TZID=America/New_York:20260315T170000
DTSTAMP:20260423T034349
CREATED:20260310T200930Z
LAST-MODIFIED:20260310T200930Z
UID:10000567-1773140400-1773594000@lancastercityart.com
SUMMARY:Come Paint with Cindy at Gallery on Market
DESCRIPTION:The first painting workshop of this new year will take place here at Gallery on market on March 15! We will be painting a 9 inch bowl with Lemons. The class is all inclusive in that it includes food\, drinks(wine\, beer\, and nonalcoholic choices)\, all the supplies that you will need\, and lots of fun! It doesn’t matter if you’ve never painted before because I walk with you through each step of the way. The class fee is $240 and it begins at 11 AM and is over at 5 PM or sooner if we finish sooner. Call Cindy at 717–3 71–9864 if you’d like to sign up. There are still a couple of spots left in the lemon class!
URL:https://lancastercityart.com/index.php/event/come-paint-with-cindy-at-gallery-on-market/
ATTACH;FMTTYPE=image/png:https://lancastercityart.com/wp-content/uploads/2026/03/IMG_8790.png
END:VEVENT
BEGIN:VEVENT
DTSTART;TZID=America/New_York:20260311T080000
DTEND;TZID=America/New_York:20260408T170000
DTSTAMP:20260423T034349
CREATED:20260326T202834Z
LAST-MODIFIED:20260326T204734Z
UID:10000568-1773216000-1775667600@lancastercityart.com
SUMMARY:Call for Artists !  Presented by Friends of Reservoir Park and the African American Cultural Alliance
DESCRIPTION:  \nSign up for submission between March 11 – April 8th.  Exhibit May 27 – 31st at Reservoir Park\, Lancaster\, PA
URL:https://lancastercityart.com/index.php/event/call-for-artists-presented-by-friends-of-reservoir-park-and-the-african-american-cultural-alliance/
ATTACH;FMTTYPE=image/png:https://lancastercityart.com/wp-content/uploads/2026/03/image0-2-1.png
END:VEVENT
END:VCALENDAR