BEGIN:VCALENDAR
VERSION:2.0
PRODID:-//lancastercityart.com - ECPv6.3.6//NONSGML v1.0//EN
CALSCALE:GREGORIAN
METHOD:PUBLISH
X-WR-CALNAME:lancastercityart.com
X-ORIGINAL-URL:https://lancastercityart.com
X-WR-CALDESC:Events for lancastercityart.com
REFRESH-INTERVAL;VALUE=DURATION:PT1H
X-Robots-Tag:noindex
X-PUBLISHED-TTL:PT1H
BEGIN:VTIMEZONE
TZID:America/New_York
BEGIN:DAYLIGHT
TZOFFSETFROM:-0500
TZOFFSETTO:-0400
TZNAME:EDT
DTSTART:20250309T070000
END:DAYLIGHT
BEGIN:STANDARD
TZOFFSETFROM:-0400
TZOFFSETTO:-0500
TZNAME:EST
DTSTART:20251102T060000
END:STANDARD
END:VTIMEZONE
BEGIN:VEVENT
DTSTART;TZID=America/New_York:20251209T100000
DTEND;TZID=America/New_York:20251228T170000
DTSTAMP:20260425T085810
CREATED:20251209T155730Z
LAST-MODIFIED:20251209T155809Z
UID:10000565-1765274400-1766941200@lancastercityart.com
SUMMARY:Red Raven Art Company has over 100 pieces of new art created by over 40 artists!!
DESCRIPTION:Stop into Red Raven to check out the new art !  Take 20% off all prints\, all month long ! \nPurchase Raffle Tickets to try to win one of our Sensational Seven (Panels of Original Art). \nThese were our favorite panels picked out from our over 330 4 x 4’s from this year’s Art4Everyone Event! \nWinners will be picked on December 20th in time for the holidays. \nAll proceeds go right back to each artist AND Red Raven will match any donations with a check to the PA Food Bank. \nHappy Holidays !!
URL:https://lancastercityart.com/index.php/event/red-raven-art-company-has-over-100-pieces-of-new-art-created-by-over-40-artists/
ATTACH;FMTTYPE=image/jpeg:https://lancastercityart.com/wp-content/uploads/2023/06/holiday-tree-copy-copy-scaled.jpg
END:VEVENT
BEGIN:VEVENT
DTSTART;TZID=America/New_York:20251214T100000
DTEND;TZID=America/New_York:20251214T160000
DTSTAMP:20260425T085810
CREATED:20250821T180401Z
LAST-MODIFIED:20250828T165743Z
UID:10000499-1765706400-1765728000@lancastercityart.com
SUMMARY:Intro to Acrylic Painting with PCAD Professor\, Jason Ward at Lancaster Art Vault
DESCRIPTION:Saturday December 13th 10am-4pm \nThis workshop is for anyone who wants to begin working with acrylic paints. This basic class will\nserve as an introduction to the paints themselves\, and what makes acrylic painting different from oil or\nwatercolor painting. We’ll cover strategies for setting up a palette\, and how to organize and mix colors.\nMost of our time will focus on application and technique. To achieve this we will be working with a\nsimple single object still life. Students should have their materials ready to work at the beginning of\nclass. Class will begin with an introduction\, then move to a brief demonstration\, and the remaining\ntime will be spent painting. The still-life reference will be provided by the instructor. Min 4\, Max 10\nparticipants\n$100 per person\nhttps://www.lancasterartvault.com/shows-workshops-events/introduction-if-acrylic-painting- with-jason-ward
URL:https://lancastercityart.com/index.php/event/intro-to-acrylic-painting-with-pcad-professor-jason-ward/
ATTACH;FMTTYPE=image/jpeg:https://lancastercityart.com/wp-content/uploads/2025/08/Intro-to-Acrylic-Painting-Poster-Jason-Ward-1-scaled.jpg
END:VEVENT
END:VCALENDAR