BEGIN:VCALENDAR
VERSION:2.0
PRODID:-//lancastercityart.com - ECPv6.3.6//NONSGML v1.0//EN
CALSCALE:GREGORIAN
METHOD:PUBLISH
X-ORIGINAL-URL:https://lancastercityart.com
X-WR-CALDESC:Events for lancastercityart.com
REFRESH-INTERVAL;VALUE=DURATION:PT1H
X-Robots-Tag:noindex
X-PUBLISHED-TTL:PT1H
BEGIN:VTIMEZONE
TZID:Europe/London
BEGIN:DAYLIGHT
TZOFFSETFROM:+0000
TZOFFSETTO:+0100
TZNAME:BST
DTSTART:20250330T010000
END:DAYLIGHT
BEGIN:STANDARD
TZOFFSETFROM:+0100
TZOFFSETTO:+0000
TZNAME:GMT
DTSTART:20251026T010000
END:STANDARD
END:VTIMEZONE
BEGIN:VEVENT
DTSTART;TZID=Europe/London:20250404T000000
DTEND;TZID=Europe/London:20250531T000000
DTSTAMP:20260424T232746
CREATED:20250328T180101Z
LAST-MODIFIED:20250328T180101Z
UID:10000240-1743724800-1748649600@lancastercityart.com
SUMMARY:Color and Place with Guest Artists Laura Watt\, Mimi Shapiro\, Ellen Silberlicht\, Jennifer Domal\, Karen Schory and emerging artist\, Joseph Roach Opens First Friday\, April 4 through May 31st
DESCRIPTION:Color &amp; Place is an exploration of how color shapes our understanding and experience of\nplace—whether real\, imagined\, or abstract. Featuring the work of Laura Watt\, Mimi Shapiro\,\nEllen Silberlicht\, Jennifer Domal\, Karen Schory and emerging artist\, Joseph Roach\, this\nexhibition brings together artists who use color as a primary force to define landscapes\, evoke\nenvironments\, and reimagine spatial relationships. From vast natural expanses and urban scenes\nto surreal environments and abstract forms\, the works in this show challenge the boundaries of\nhow we perceive and connect to place.\nThrough vibrant hues\, tonal subtleties\, and expressive compositions\, Color &amp; Place invites\nviewers to consider how color can be both a reflection of the physical world and a gateway to\nnew\, intangible spaces. Whether through bold abstraction or detailed representation\, each work\ncaptures the essence of place—not just as a geographic location but as an emotional\, and deeply\npersonal experience.\nFeaturing a range of media including painting\, photography\, mixed media\, and fiber art\, Color &amp;\nPlace celebrates the power of color to define\, distort\, and transform our perception of the world. \nAlso featuring the work for the following selected artists:\nAnn Benton Yeager\, Diann Cardello\, Felicia Feemster\, Jane Wolf\, Jessica C. Oehme\, Jordan\nSwartz\, Kim Bricker\, Kristin Whitbeck Lee\, Lee Shannon\, Leia Davliakos\, Lindsey Cammauf\,\nLouise Thomas\, Marilyn Fox\, Marlena Beiler\, Morgan Scott\, Nichole Madonna\, Olivia Stoltzfus\,\nPaul Engleheart\, Sherrie Snyder\, Steffany Minotti\, Stone Stafford\, Susan LePage\, Terri\nYacovelli\, Tina Borchert\, Tracy Lambros\, Valerie R. Dillon.\nMore Info at www.LancasterArtVault.com\nLancaster Art Vault is located at 100 North Queen Street\, Lancaster.\nEmail Info@LancasterArtVault.com for more information.
URL:https://lancastercityart.com/index.php/event/color-and-place-with-guest-artists-laura-watt-mimi-shapiro-ellen-silberlicht-jennifer-domal-karen-schory-and-emerging-artist-joseph-roach-opens-first-friday-april-4-through-may-31st/
CATEGORIES:Art Exhibition
ATTACH;FMTTYPE=image/jpeg:https://lancastercityart.com/wp-content/uploads/2025/03/Color-and-Place-Postcard.jpg
END:VEVENT
BEGIN:VEVENT
DTSTART;TZID=Europe/London:20250404T100000
DTEND;TZID=Europe/London:20250531T160000
DTSTAMP:20260424T232746
CREATED:20250416T001446Z
LAST-MODIFIED:20250416T001446Z
UID:10000398-1743760800-1748707200@lancastercityart.com
SUMMARY:Showing in the U Gallery - Cheryl Elmo\, Marcy Stone\, Ian McLaughlin and Paris Wyatt Llanso Friday\, April 4th - Saturday\, May 31st
DESCRIPTION:Join us this spring at Lancaster Art Vault’s U Gallery for a vibrant group exhibition featuring the\nworks of Cheryl Elmo\, Marcy Stone\, Ian McLaughlin\, and Paris Wyatt Llanso. From expressive\nwatercolor and mixed media to bold contemporary forms\, each artist brings a unique\nperspective to the collection.\nOpening First Friday\, April 4\, the show offers a dynamic exploration of color\, texture\, and\nstorytelling—on view through May 31.\nDon’t miss this fresh and eclectic showcase of regional talent.\nFor more info:\nhttps://www.lancasterartvault.com/upcoming-current-shows/event-one-45n9l
URL:https://lancastercityart.com/index.php/event/showing-in-the-u-gallery-cheryl-elmo-marcy-stone-ian-mclaughlin-and-paris-wyatt-llanso-friday-april-4th-saturday-may-31st/
CATEGORIES:Art Exhibition
ATTACH;FMTTYPE=image/jpeg:https://lancastercityart.com/wp-content/uploads/2025/04/U-shaped-gallery-group-Postcard.jpg
END:VEVENT
BEGIN:VEVENT
DTSTART;TZID=Europe/London:20250502T100000
DTEND;TZID=Europe/London:20250531T160000
DTSTAMP:20260424T232746
CREATED:20250416T001702Z
LAST-MODIFIED:20250416T001702Z
UID:10000399-1746180000-1748707200@lancastercityart.com
SUMMARY:“Nature Magnified” by Resident Artist Melissa Zane Friday May 2 nd - Saturday\, May 31st
DESCRIPTION:Nature Magnified is a collection of large-scale acrylic paintings that focus on the individual\naspects of the natural world. This series enhances the design elements that make up their larger\nwholes by exploring color\, texture\, and light. Each piece takes on a life of its own from inception\nto unanticipated outcomes\, depicting my unique interpretation of natural beauty.\nBeyond showcasing the obvious\, the sheer size of the subject matter encourages viewers to\nlook deeper. Color guides the eye\, inviting harmony and repetition or urging an examination of\ndesign beyond mere color. Texture contributes a sense of depth and complexity through high-\nrelief ornamentation\, intricate patterns\, and my organic style. The incorporation of metallic and\niridescent paints means that light transforms the viewer’s perception based on different angles\nand varying times of day\, whether under natural or artificial light.\nOverall\, the series invites viewers on a fascinating journey of exploration that goes beyond the\nsurface\, encouraging a greater appreciation for nature and the small natural elements\nsurrounding us.\nFor more info:\nhttps://www.lancasterartvault.com/upcoming-current-shows/515licj75lr86qfhfmrdbwfv4nxmod
URL:https://lancastercityart.com/index.php/event/nature-magnified-by-resident-artist-melissa-zane-friday-may-2-nd-saturday-may-31st/
CATEGORIES:Art Exhibition
ATTACH;FMTTYPE=image/jpeg:https://lancastercityart.com/wp-content/uploads/2025/04/Melissa-Zane-Postcard-Postcard-US-Portrait.jpg
END:VEVENT
BEGIN:VEVENT
DTSTART;TZID=Europe/London:20250502T160000
DTEND;TZID=Europe/London:20250502T190000
DTSTAMP:20260424T232746
CREATED:20250328T182526Z
LAST-MODIFIED:20250328T182526Z
UID:10000324-1746201600-1746212400@lancastercityart.com
SUMMARY:Summer First Friday Artisan Markets First Fridays May – October  5:00-8:00 PM
DESCRIPTION:Artists\, Crafters\, Artisans and Visitors – Join in the First Friday celebrations at Lancaster Art\nVault!\nWe will be hosting a Artisan Market every First Friday from May-October\, 2025 outside\, under\nthe eaves of the building from 5-8PM.  Stop by and shop local artisans\, crafters and artists!\nVendors – Please apply at www.LancasterArtVault.com\n$20/Vendor Space\nMore Info and Register at www.LancasterArtVault.com\nLancaster Art Vault is located at 100 North Queen Street\, Lancaster.\nEmail Info@LancasterArtVault.com for more information.
URL:https://lancastercityart.com/index.php/event/summer-first-friday-artisan-markets-first-fridays-may-october-500-800-pm/2025-05-02/
CATEGORIES:Art Exhibition,Community Event
END:VEVENT
BEGIN:VEVENT
DTSTART;TZID=Europe/London:20250502T170000
DTEND;TZID=Europe/London:20250502T200000
DTSTAMP:20260424T232746
CREATED:20250425T213901Z
LAST-MODIFIED:20250425T213901Z
UID:10000401-1746205200-1746216000@lancastercityart.com
SUMMARY:6x10B Drawing Invitational
DESCRIPTION:Join us for May First Friday as we continue the celebration of the 6x10B Drawing Invitational exhibition! \nParticipating Artists:\nMatt Allyn Chapman\nDorothy Frey\nJeff Geib\nEvan Kitson\nJason Ward\nZane York \nIn October of 2023 we held an exhibition of drawings all focused around the use of the 6H pencil. Inspired by William de Kooning and his teachings at Black Mountain College in the 1950’s. We invited 10 artists to participate by creating original artworks all using the same materials. With this new exhibition we see the challenge re envisioned\, and with it a new set of parameters for both the Artist and their Artwork. Here it is as presented yet again by curators Jeff Geib\, Evan Kitson\, Matt Chapman & Nicole Duquette: \nMoved by the success and sheer enjoyment discovered in the 6H challenge\, we have invited 6 artists to participate and have outfitted them with the same materials\, the Faber Pitt Matte 10B\, and the Mitsubishi Hi Uni 10B\, the same surface to work on\, and the same amount of time to develop an original work of art. In a sense still pulling from the thread of de Kooning\, as he was inspired to teach using the lessons that had a great impact on him as a student. We have asked these 6 artists\, all educators\, to look into their own teaching practice and pull a lesson that they ask their students to complete. \nImage shown is by local artist Jason Ward.
URL:https://lancastercityart.com/index.php/event/6x10b-drawing-invitational-2/
LOCATION:CURIO. GALLERY & CREATIVE SUPPLY\, 106 W Chestnut St\, Lancaster\, PA\, 17601\, United States
CATEGORIES:Art Exhibition
ATTACH;FMTTYPE=image/jpeg:https://lancastercityart.com/wp-content/uploads/2025/04/Jason-Ward-6x10B-Drawing.jpg
END:VEVENT
END:VCALENDAR