BEGIN:VCALENDAR
VERSION:2.0
PRODID:-//lancastercityart.com - ECPv6.3.6//NONSGML v1.0//EN
CALSCALE:GREGORIAN
METHOD:PUBLISH
X-ORIGINAL-URL:https://lancastercityart.com
X-WR-CALDESC:Events for lancastercityart.com
REFRESH-INTERVAL;VALUE=DURATION:PT1H
X-Robots-Tag:noindex
X-PUBLISHED-TTL:PT1H
BEGIN:VTIMEZONE
TZID:Europe/London
BEGIN:DAYLIGHT
TZOFFSETFROM:+0000
TZOFFSETTO:+0100
TZNAME:BST
DTSTART:20240331T010000
END:DAYLIGHT
BEGIN:STANDARD
TZOFFSETFROM:+0100
TZOFFSETTO:+0000
TZNAME:GMT
DTSTART:20241027T010000
END:STANDARD
END:VTIMEZONE
BEGIN:VEVENT
DTSTART;TZID=Europe/London:20240710T190000
DTEND;TZID=Europe/London:20240710T200000
DTSTAMP:20260425T113858
CREATED:20240628T010805Z
LAST-MODIFIED:20240628T010805Z
UID:10000210-1720638000-1720641600@lancastercityart.com
SUMMARY:ARTIST. WOMAN. MOTHER. Artist Talk with Sherry Bowman & Nichole Madonna
DESCRIPTION:Join us in celebrating Sherry Bowman and Nichole Madonna in their exhibition ARTIST. WOMAN. MOTHER. as we host an Artist Talk in the gallery on Wednesday July 10th 7:00-8:00pm.\nWe will discuss their individual works and collaborative pieces\, the repetition of symbols and their significance\, the mixed media explorations\, and their shared identity as artists\, women and mothers.\nConversation and questions are welcome! Light refreshments will be served. We look forward to you joining us. \nABOUT THE SHOW:\nWe are given a name when we are born\, a sort of “absolute word” that serves as an identifier\, a sound that when vocalized or read helps us individualize from others. We are all called something\, and as we move through life we acquire and collect skills\, characteristics\, and experiences that also have names. They attach to us and become part of our identity. Sometimes we seek them out and accept them willingly\, sometimes they are placed on us. For Sherry Bowman and Nicole Madonna\, their names exist alongside three others specifically\, “Artist”\, “Woman”\, and “Mother”.\nAn incredible trait Sherry & Nichole share is the ability to assume these many identities simultaneously. Being able to give their attention to these competing facets with patience\, thoughtfulness\, and creativity. Navigating the landscape of their lives as individuals who are connected to others and looked to for their professionalism\, authority\, and humanity. \nKnowing where one of these names ends and the other begins is often difficult. As the Ouroboros consumes its tail and connects its end with its beginning\, similar is the relationship of these three elements. Each influencing the others in all aspects of their being. Essential in their role and though one may expand and command a higher visibility for a time\, the balance will shift again\, providing opportunity for another to occupy the space.\nThis exhibition calls attention to this balance. Through individual and collaborative works\, both artists are able to share their unique perspective and visual language while accentuating their parallels and commonalities. Utilizing the gallery walls as a place to show artworks that were made of only themselves\, their own conceptualization\, and executed by their hands. Together this collection brings many new names\, storyteller\, educator\, creator are only a few. And it’s in their connection that brings yet another name\, “friend”. \nView these pieces as manifestations of their voice made visual. Observations of an artist’s mind always at work\, a woman’s depth\, and a mothers paradigm.
URL:https://lancastercityart.com/index.php/event/artist-woman-mother-artist-talk-with-sherry-bowman-nichole-madonna/
LOCATION:CURIO. GALLERY & CREATIVE SUPPLY\, 106 W Chestnut St\, Lancaster\, PA\, 17601\, United States
CATEGORIES:Art Exhibition
ATTACH;FMTTYPE=image/jpeg:https://lancastercityart.com/wp-content/uploads/2024/06/AWM-ARTIST-TALK-copy.jpg
END:VEVENT
END:VCALENDAR