BEGIN:VCALENDAR
VERSION:2.0
PRODID:-//lancastercityart.com - ECPv6.3.6//NONSGML v1.0//EN
CALSCALE:GREGORIAN
METHOD:PUBLISH
X-WR-CALNAME:lancastercityart.com
X-ORIGINAL-URL:https://lancastercityart.com
X-WR-CALDESC:Events for lancastercityart.com
REFRESH-INTERVAL;VALUE=DURATION:PT1H
X-Robots-Tag:noindex
X-PUBLISHED-TTL:PT1H
BEGIN:VTIMEZONE
TZID:Europe/London
BEGIN:DAYLIGHT
TZOFFSETFROM:+0000
TZOFFSETTO:+0100
TZNAME:BST
DTSTART:20230326T010000
END:DAYLIGHT
BEGIN:STANDARD
TZOFFSETFROM:+0100
TZOFFSETTO:+0000
TZNAME:GMT
DTSTART:20231029T010000
END:STANDARD
END:VTIMEZONE
BEGIN:VEVENT
DTSTART;TZID=Europe/London:20231007T100000
DTEND;TZID=Europe/London:20231007T120000
DTSTAMP:20260421T042713
CREATED:20230816T222313Z
LAST-MODIFIED:20230816T222313Z
UID:10000161-1696672800-1696680000@lancastercityart.com
SUMMARY:Made in the Shade: Environmental Conservation & Plein Air Artmaking
DESCRIPTION:Join curio. for a special Plein Air Artmaking event\, part three of three\, at Overlook Park 605 Granite Run Drive Lancaster\, PA 17601\, on Saturday October 7th 10:00-12:00pm \nFree and open to all ages and skill levels\, we are partnering with the Lancaster County Buffer Action Team to learn about their work of maintaining and implementing new acreage of native forested riparian buffers while being inspired by the surrounding environment and creating en plein air. Our native landscapes and stream corridors are works of art and a goal of the Buffer Action Team is to help educate the community to understand the plantings happening in their very own backyards and the science behind them. Matt will lead us in creative observation and provide guidance as we find inspiration in the beauty of Overlook Park and create artworks amongst the trees. \ncurio. will have supplies for guests to use including drawing boards\, graphite pencils\, graphite crayons\, erasers\, sharpeners\, charcoal\, oil crayons\, brushes\, water and paper\, however feel free to bring your favorite supplies! \nOther suggested materials:\n-Pastels\n-Conte\n-Watercolor\n-Colored Pencils\n-Markers\n-Field Easel\n-Sketchbook \nFeel free to bring a chair\, blanket\, water\, and snacks! \nSign up is not required but we will send a friendly reminder leading up to the event. \nThe Buffer Action Team includes Lancaster County Conservation District\, Clean Water Partners\, The Chesapeake Bay Foundation\, Alliance for the Chesapeake Bay\, Stroud Water Research Center\, Penn State Ag and Environmental Center\, and the Department of Conservation and Natural Resources.
URL:https://lancastercityart.com/index.php/event/made-in-the-shade-environmental-conservation-plein-air-artmaking-2/
CATEGORIES:Community Event
ATTACH;FMTTYPE=image/jpeg:https://lancastercityart.com/wp-content/uploads/2023/08/10.7.23-square-copy.jpg
END:VEVENT
BEGIN:VEVENT
DTSTART;TZID=Europe/London:20231007T123000
DTEND;TZID=Europe/London:20231007T170000
DTSTAMP:20260421T042713
CREATED:20230805T004239Z
LAST-MODIFIED:20230805T004245Z
UID:10000148-1696681800-1696698000@lancastercityart.com
SUMMARY:Art Drop By
DESCRIPTION:We’re open for you to drop by and browse cultural art\, and learn about Liberia\, W. Africa from the co-owners of PAVAA Gallery\, and the work they are doing there.
URL:https://lancastercityart.com/index.php/event/art-drop-by/2023-10-07/
LOCATION:PAVAA Gallery\, 632 N Christian St\, Lancaster\, PA\, 17602\, United States
CATEGORIES:Art Exhibition
ATTACH;FMTTYPE=image/png:https://lancastercityart.com/wp-content/uploads/2023/08/FlagRoyalty-02-01-1.png
END:VEVENT
BEGIN:VEVENT
DTSTART;TZID=Europe/London:20231007T173000
DTEND;TZID=Europe/London:20231007T183000
DTSTAMP:20260421T042713
CREATED:20230726T034621Z
LAST-MODIFIED:20230802T173655Z
UID:10000137-1696699800-1696703400@lancastercityart.com
SUMMARY:Drum-Beats-Art Show
DESCRIPTION:Drum-Beats-Art Show\nEvery First Saturday from now to Nov. 4th.\n5:30-6:30 PM\n632 N Christian St.\, Lancaster 17603\nFree. Donations appreciated.\nIt’s a performance painting. View an abstract painting being created with drumsticks playing along with a DJ mix created by multi-disciplinary artist Gerri McCritty. Drum-Beats-Art\, is interactive. Anyone can participate. Enjoy helping to create an original abstract while dancing to the drumbeats and music. Complimentary beverages and light hor d’oeuvres. Free $5 coupons toward any purchase over $20 in-gallery or in our online stores. \nFor more information: FB and IG\, pavaagallery@gmail.com\, 717-490-6720 (leave message).
URL:https://lancastercityart.com/index.php/event/drum-beats-art-show-2/2023-10-07/
LOCATION:PAVAA Gallery\, 632 N Christian St\, Lancaster\, PA\, 17602\, United States
CATEGORIES:Special Event
ATTACH;FMTTYPE=image/png:https://lancastercityart.com/wp-content/uploads/2023/07/Drum-Beats-Art-1.png
END:VEVENT
END:VCALENDAR